Package: BiocPkgTools Version: 1.27.12 Command: rm -rf BiocPkgTools.buildbin-libdir && mkdir BiocPkgTools.buildbin-libdir && /Users/biocbuild/BBS/utils/build-universal.sh BiocPkgTools_1.27.12.tar.gz /Library/Frameworks/R.framework/Resources/bin/R BiocPkgTools.buildbin-libdir StartedAt: 2025-10-21 22:53:43 -0400 (Tue, 21 Oct 2025) EndedAt: 2025-10-21 22:53:48 -0400 (Tue, 21 Oct 2025) EllapsedTime: 5.1 seconds RetCode: 0 Status: OK PackageFile: BiocPkgTools_1.27.12.tgz PackageFileSize: 1.149 MiB