Package: BiocParallel Version: 1.43.4 Command: /home/biocbuild/bbs-3.22-bioc/R/bin/R CMD INSTALL BiocParallel StartedAt: 2025-10-27 15:06:28 -0400 (Mon, 27 Oct 2025) EndedAt: 2025-10-27 15:06:43 -0400 (Mon, 27 Oct 2025) EllapsedTime: 14.3 seconds RetCode: 0 Status: OK