Package: BiocParallel Version: 1.43.4 Command: /home/biocbuild/bbs-3.22-bioc/R/bin/R CMD check --install=check:BiocParallel.install-out.txt --library=/home/biocbuild/bbs-3.22-bioc/R/site-library --timings BiocParallel_1.43.4.tar.gz StartedAt: 2025-10-27 21:29:15 -0400 (Mon, 27 Oct 2025) EndedAt: 2025-10-27 21:35:57 -0400 (Mon, 27 Oct 2025) EllapsedTime: 402.5 seconds RetCode: 0 Status: OK CheckDir: BiocParallel.Rcheck Warnings: 0