Package: BiocParallel Version: 1.43.4 Command: /Library/Frameworks/R.framework/Resources/bin/R CMD INSTALL BiocParallel StartedAt: 2025-10-27 15:04:43 -0400 (Mon, 27 Oct 2025) EndedAt: 2025-10-27 15:05:24 -0400 (Mon, 27 Oct 2025) EllapsedTime: 40.6 seconds RetCode: 0 Status: OK