Package: BiocParallel Version: 1.43.4 Command: rm -rf BiocParallel.buildbin-libdir && mkdir BiocParallel.buildbin-libdir && /Users/biocbuild/BBS/utils/build-universal.sh BiocParallel_1.43.4.tar.gz /Library/Frameworks/R.framework/Resources/bin/R BiocParallel.buildbin-libdir StartedAt: 2025-10-28 02:01:37 -0400 (Tue, 28 Oct 2025) EndedAt: 2025-10-28 02:02:09 -0400 (Tue, 28 Oct 2025) EllapsedTime: 32.4 seconds RetCode: 0 Status: OK PackageFile: BiocParallel_1.43.4.tgz PackageFileSize: 1.602 MiB