Package: BiocParallel Version: 1.43.4 Command: /Library/Frameworks/R.framework/Resources/bin/R CMD INSTALL BiocParallel StartedAt: 2025-10-27 15:02:19 -0400 (Mon, 27 Oct 2025) EndedAt: 2025-10-27 15:02:33 -0400 (Mon, 27 Oct 2025) EllapsedTime: 14.1 seconds RetCode: 0 Status: OK