Package: BiocParallel Version: 1.43.4 Command: /Library/Frameworks/R.framework/Resources/bin/R CMD build --keep-empty-dirs --no-resave-data BiocParallel StartedAt: 2025-10-27 15:45:56 -0400 (Mon, 27 Oct 2025) EndedAt: 2025-10-27 15:46:44 -0400 (Mon, 27 Oct 2025) EllapsedTime: 48.6 seconds RetCode: 0 Status: OK PackageFile: BiocParallel_1.43.4.tar.gz PackageFileSize: 1.052 MiB