Package: BiocNeighbors Version: 2.3.1 Command: /home/biocbuild/bbs-3.22-bioc/R/bin/R CMD INSTALL BiocNeighbors StartedAt: 2025-10-24 15:13:05 -0400 (Fri, 24 Oct 2025) EndedAt: 2025-10-24 15:13:49 -0400 (Fri, 24 Oct 2025) EllapsedTime: 44.1 seconds RetCode: 0 Status: OK