Package: BiocIO Version: 1.19.0 Command: /home/biocbuild/bbs-3.22-bioc/R/bin/R CMD INSTALL BiocIO StartedAt: 2025-10-24 15:23:16 -0400 (Fri, 24 Oct 2025) EndedAt: 2025-10-24 15:23:21 -0400 (Fri, 24 Oct 2025) EllapsedTime: 4.7 seconds RetCode: 0 Status: OK