Package: BiocIO Version: 1.20.0 Command: /Library/Frameworks/R.framework/Resources/bin/R CMD INSTALL BiocIO StartedAt: 2025-10-31 15:10:42 -0400 (Fri, 31 Oct 2025) EndedAt: 2025-10-31 15:10:44 -0400 (Fri, 31 Oct 2025) EllapsedTime: 2.2 seconds RetCode: 0 Status: OK