Package: BiocHubsShiny Version: 1.9.2 Command: /home/biocbuild/bbs-3.22-bioc/R/bin/R CMD INSTALL BiocHubsShiny StartedAt: 2025-10-24 15:36:46 -0400 (Fri, 24 Oct 2025) EndedAt: 2025-10-24 15:37:01 -0400 (Fri, 24 Oct 2025) EllapsedTime: 14.8 seconds RetCode: 0 Status: OK