Package: BiocHubsShiny Version: 1.10.0 Command: /Library/Frameworks/R.framework/Resources/bin/R CMD INSTALL BiocHubsShiny StartedAt: 2025-11-02 15:09:21 -0500 (Sun, 02 Nov 2025) EndedAt: 2025-11-02 15:09:29 -0500 (Sun, 02 Nov 2025) EllapsedTime: 8.5 seconds RetCode: 0 Status: OK