Package: BiocHubsShiny Version: 1.10.0 Command: /Library/Frameworks/R.framework/Resources/bin/R CMD build --keep-empty-dirs --no-resave-data BiocHubsShiny StartedAt: 2025-11-03 15:45:57 -0500 (Mon, 03 Nov 2025) EndedAt: 2025-11-03 15:46:06 -0500 (Mon, 03 Nov 2025) EllapsedTime: 9.1 seconds RetCode: 0 Status: OK PackageFile: BiocHubsShiny_1.10.0.tar.gz PackageFileSize: 1.604 MiB