Package: BiocGenerics Version: 0.55.4 Command: /home/biocbuild/bbs-3.22-bioc/R/bin/R CMD INSTALL BiocGenerics StartedAt: 2025-10-27 15:13:50 -0400 (Mon, 27 Oct 2025) EndedAt: 2025-10-27 15:13:59 -0400 (Mon, 27 Oct 2025) EllapsedTime: 9.6 seconds RetCode: 0 Status: OK