Package: BiocGenerics Version: 0.55.4 Command: /Library/Frameworks/R.framework/Resources/bin/R CMD INSTALL BiocGenerics StartedAt: 2025-10-27 15:06:19 -0400 (Mon, 27 Oct 2025) EndedAt: 2025-10-27 15:06:23 -0400 (Mon, 27 Oct 2025) EllapsedTime: 4.4 seconds RetCode: 0 Status: OK