Package: BiocGenerics Version: 0.55.4 Command: /Library/Frameworks/R.framework/Resources/bin/R CMD build --keep-empty-dirs --no-resave-data BiocGenerics StartedAt: 2025-10-27 15:45:47 -0400 (Mon, 27 Oct 2025) EndedAt: 2025-10-27 15:45:48 -0400 (Mon, 27 Oct 2025) EllapsedTime: 1.0 seconds RetCode: 0 Status: OK PackageFile: BiocGenerics_0.55.4.tar.gz PackageFileSize: 55.39 KiB