Package: BiocGenerics Version: 0.55.4 Command: rm -rf BiocGenerics.buildbin-libdir && mkdir BiocGenerics.buildbin-libdir && /Users/biocbuild/BBS/utils/build-universal.sh BiocGenerics_0.55.4.tar.gz /Library/Frameworks/R.framework/Resources/bin/R BiocGenerics.buildbin-libdir StartedAt: 2025-10-27 22:54:53 -0400 (Mon, 27 Oct 2025) EndedAt: 2025-10-27 22:54:56 -0400 (Mon, 27 Oct 2025) EllapsedTime: 3.1 seconds RetCode: 0 Status: OK PackageFile: BiocGenerics_0.55.4.tgz PackageFileSize: 641.6 KiB