Package: BiocFileCache Version: 2.99.6 Command: /home/biocbuild/bbs-3.22-bioc/R/bin/R CMD INSTALL BiocFileCache StartedAt: 2025-10-24 15:19:42 -0400 (Fri, 24 Oct 2025) EndedAt: 2025-10-24 15:19:53 -0400 (Fri, 24 Oct 2025) EllapsedTime: 10.6 seconds RetCode: 0 Status: OK