Package: BiocFileCache Version: 2.99.6 Command: /home/biocbuild/bbs-3.22-bioc/R/bin/R CMD check --install=check:BiocFileCache.install-out.txt --library=/home/biocbuild/bbs-3.22-bioc/R/site-library --timings BiocFileCache_2.99.6.tar.gz StartedAt: 2025-10-24 21:35:57 -0400 (Fri, 24 Oct 2025) EndedAt: 2025-10-24 21:38:24 -0400 (Fri, 24 Oct 2025) EllapsedTime: 147.2 seconds RetCode: 0 Status: OK CheckDir: BiocFileCache.Rcheck Warnings: 0