Package: BiocFileCache Version: 2.99.6 Command: /home/biocbuild/bbs-3.22-bioc/R/bin/R CMD build --keep-empty-dirs --no-resave-data --md5 BiocFileCache StartedAt: 2025-10-24 16:38:43 -0400 (Fri, 24 Oct 2025) EndedAt: 2025-10-24 16:40:36 -0400 (Fri, 24 Oct 2025) EllapsedTime: 113.2 seconds RetCode: 0 Status: OK PackageFile: BiocFileCache_2.99.6.tar.gz PackageFileSize: 726.9 KiB