Package: BiocFileCache Version: 2.99.6 Command: /Library/Frameworks/R.framework/Resources/bin/R CMD INSTALL BiocFileCache StartedAt: 2025-10-24 15:19:01 -0400 (Fri, 24 Oct 2025) EndedAt: 2025-10-24 15:19:32 -0400 (Fri, 24 Oct 2025) EllapsedTime: 30.7 seconds RetCode: 0 Status: OK