Package: BiocFileCache Version: 2.99.6 Command: /Library/Frameworks/R.framework/Resources/bin/R CMD build --keep-empty-dirs --no-resave-data BiocFileCache StartedAt: 2025-10-24 16:18:12 -0400 (Fri, 24 Oct 2025) EndedAt: 2025-10-24 16:20:04 -0400 (Fri, 24 Oct 2025) EllapsedTime: 112.2 seconds RetCode: 0 Status: OK PackageFile: BiocFileCache_2.99.6.tar.gz PackageFileSize: 725.6 KiB