Package: BiocFileCache Version: 2.99.6 Command: rm -rf BiocFileCache.buildbin-libdir && mkdir BiocFileCache.buildbin-libdir && /Users/biocbuild/BBS/utils/build-universal.sh BiocFileCache_2.99.6.tar.gz /Library/Frameworks/R.framework/Resources/bin/R BiocFileCache.buildbin-libdir StartedAt: 2025-10-25 01:29:45 -0400 (Sat, 25 Oct 2025) EndedAt: 2025-10-25 01:29:58 -0400 (Sat, 25 Oct 2025) EllapsedTime: 12.8 seconds RetCode: 0 Status: OK PackageFile: BiocFileCache_2.99.6.tgz PackageFileSize: 952.9 KiB