Package: BiocFileCache Version: 2.99.6 Command: /Library/Frameworks/R.framework/Resources/bin/R CMD check --install=check:BiocFileCache.install-out.txt --library=/Library/Frameworks/R.framework/Resources/library --no-vignettes --timings BiocFileCache_2.99.6.tar.gz StartedAt: 2025-10-27 18:39:35 -0400 (Mon, 27 Oct 2025) EndedAt: 2025-10-27 18:40:54 -0400 (Mon, 27 Oct 2025) EllapsedTime: 79.0 seconds RetCode: 0 Status: OK CheckDir: BiocFileCache.Rcheck Warnings: 0