Package: BiocFileCache Version: 2.99.6 Command: rm -rf BiocFileCache.buildbin-libdir && mkdir BiocFileCache.buildbin-libdir && /Users/biocbuild/BBS/utils/build-universal.sh BiocFileCache_2.99.6.tar.gz /Library/Frameworks/R.framework/Resources/bin/R BiocFileCache.buildbin-libdir StartedAt: 2025-10-24 22:55:31 -0400 (Fri, 24 Oct 2025) EndedAt: 2025-10-24 22:55:34 -0400 (Fri, 24 Oct 2025) EllapsedTime: 3.1 seconds RetCode: 0 Status: OK PackageFile: BiocFileCache_2.99.6.tgz PackageFileSize: 953.4 KiB