Package: BiocCheck Version: 1.45.20 Command: /home/biocbuild/bbs-3.22-bioc/R/bin/R CMD INSTALL BiocCheck StartedAt: 2025-10-24 15:24:35 -0400 (Fri, 24 Oct 2025) EndedAt: 2025-10-24 15:24:47 -0400 (Fri, 24 Oct 2025) EllapsedTime: 11.8 seconds RetCode: 0 Status: OK