Package: BiocCheck Version: 1.46.0 Command: /Library/Frameworks/R.framework/Resources/bin/R CMD INSTALL BiocCheck StartedAt: 2025-11-02 15:07:24 -0500 (Sun, 02 Nov 2025) EndedAt: 2025-11-02 15:07:28 -0500 (Sun, 02 Nov 2025) EllapsedTime: 3.9 seconds RetCode: 0 Status: OK