Package: BiocCheck Version: 1.46.0 Command: /Library/Frameworks/R.framework/Resources/bin/R CMD build --keep-empty-dirs --no-resave-data BiocCheck StartedAt: 2025-10-30 15:45:53 -0400 (Thu, 30 Oct 2025) EndedAt: 2025-10-30 15:46:00 -0400 (Thu, 30 Oct 2025) EllapsedTime: 6.1 seconds RetCode: 0 Status: OK PackageFile: BiocCheck_1.46.0.tar.gz PackageFileSize: 312.7 KiB