Package: BiocCheck Version: 1.46.0 Command: rm -rf BiocCheck.buildbin-libdir && mkdir BiocCheck.buildbin-libdir && /Users/biocbuild/BBS/utils/build-universal.sh BiocCheck_1.46.0.tar.gz /Library/Frameworks/R.framework/Resources/bin/R BiocCheck.buildbin-libdir StartedAt: 2025-10-30 22:53:17 -0400 (Thu, 30 Oct 2025) EndedAt: 2025-10-30 22:53:22 -0400 (Thu, 30 Oct 2025) EllapsedTime: 5.1 seconds RetCode: 0 Status: OK PackageFile: BiocCheck_1.46.0.tgz PackageFileSize: 651.6 KiB