Package: BiocBook Version: 1.7.0 Command: /Library/Frameworks/R.framework/Resources/bin/R CMD INSTALL BiocBook StartedAt: 2025-10-24 15:09:16 -0400 (Fri, 24 Oct 2025) EndedAt: 2025-10-24 15:09:19 -0400 (Fri, 24 Oct 2025) EllapsedTime: 3.1 seconds RetCode: 0 Status: OK