Package: BiocBook Version: 1.7.0 Command: /Library/Frameworks/R.framework/Resources/bin/R CMD build --keep-empty-dirs --no-resave-data BiocBook StartedAt: 2025-10-24 15:48:21 -0400 (Fri, 24 Oct 2025) EndedAt: 2025-10-24 15:48:42 -0400 (Fri, 24 Oct 2025) EllapsedTime: 21.2 seconds RetCode: 0 Status: OK PackageFile: BiocBook_1.7.0.tar.gz PackageFileSize: 902.8 KiB