Package: BiocBook Version: 1.7.0 Command: rm -rf BiocBook.buildbin-libdir && mkdir BiocBook.buildbin-libdir && /Users/biocbuild/BBS/utils/build-universal.sh BiocBook_1.7.0.tar.gz /Library/Frameworks/R.framework/Resources/bin/R BiocBook.buildbin-libdir StartedAt: 2025-10-24 22:55:30 -0400 (Fri, 24 Oct 2025) EndedAt: 2025-10-24 22:55:33 -0400 (Fri, 24 Oct 2025) EllapsedTime: 3.1 seconds RetCode: 0 Status: OK PackageFile: BiocBook_1.7.0.tgz PackageFileSize: 1.028 MiB