Package: BiocBaseUtils Version: 1.11.2 Command: /home/biocbuild/R/R/bin/R CMD INSTALL BiocBaseUtils StartedAt: 2025-10-23 20:17:13 -0000 (Thu, 23 Oct 2025) EndedAt: 2025-10-23 20:17:38 -0000 (Thu, 23 Oct 2025) EllapsedTime: 25.2 seconds RetCode: 0 Status: OK