Package: BiocBaseUtils Version: 1.11.2 Command: /home/biocbuild/R/R/bin/R CMD build --keep-empty-dirs --no-resave-data BiocBaseUtils StartedAt: 2025-10-20 22:14:13 -0000 (Mon, 20 Oct 2025) EndedAt: 2025-10-20 22:14:18 -0000 (Mon, 20 Oct 2025) EllapsedTime: 5.0 seconds RetCode: 0 Status: OK PackageFile: BiocBaseUtils_1.11.2.tar.gz PackageFileSize: 251.1 KiB