Package: BiocBaseUtils Version: 1.11.2 Command: /Library/Frameworks/R.framework/Resources/bin/R CMD INSTALL BiocBaseUtils StartedAt: 2025-10-24 15:04:11 -0400 (Fri, 24 Oct 2025) EndedAt: 2025-10-24 15:04:15 -0400 (Fri, 24 Oct 2025) EllapsedTime: 4.8 seconds RetCode: 0 Status: OK