Package: BiocBaseUtils Version: 1.11.2 Command: /Library/Frameworks/R.framework/Resources/bin/R CMD build --keep-empty-dirs --no-resave-data BiocBaseUtils StartedAt: 2025-10-24 15:48:18 -0400 (Fri, 24 Oct 2025) EndedAt: 2025-10-24 15:48:21 -0400 (Fri, 24 Oct 2025) EllapsedTime: 2.0 seconds RetCode: 0 Status: OK PackageFile: BiocBaseUtils_1.11.2.tar.gz PackageFileSize: 226.3 KiB