Package: Bioc.gff Version: 0.99.17 Command: /home/biocbuild/bbs-3.22-bioc/R/bin/R CMD INSTALL Bioc.gff StartedAt: 2025-10-24 15:26:39 -0400 (Fri, 24 Oct 2025) EndedAt: 2025-10-24 15:26:52 -0400 (Fri, 24 Oct 2025) EllapsedTime: 12.7 seconds RetCode: 0 Status: OK