Package: Bioc.gff Version: 0.99.17 Command: /home/biocbuild/bbs-3.22-bioc/R/bin/R CMD build --keep-empty-dirs --no-resave-data --md5 Bioc.gff StartedAt: 2025-10-24 16:37:55 -0400 (Fri, 24 Oct 2025) EndedAt: 2025-10-24 16:38:50 -0400 (Fri, 24 Oct 2025) EllapsedTime: 55.0 seconds RetCode: 0 Status: OK PackageFile: Bioc.gff_0.99.17.tar.gz PackageFileSize: 266.2 KiB