Package: Biobase Version: 2.69.1 Command: /home/biocbuild/bbs-3.22-bioc/R/bin/R CMD INSTALL Biobase StartedAt: 2025-10-27 15:14:01 -0400 (Mon, 27 Oct 2025) EndedAt: 2025-10-27 15:14:10 -0400 (Mon, 27 Oct 2025) EllapsedTime: 9.1 seconds RetCode: 0 Status: OK