Package: Biobase Version: 2.69.1 Command: /home/biocbuild/bbs-3.22-bioc/R/bin/R CMD build --keep-empty-dirs --no-resave-data --md5 Biobase StartedAt: 2025-10-27 16:29:11 -0400 (Mon, 27 Oct 2025) EndedAt: 2025-10-27 16:29:27 -0400 (Mon, 27 Oct 2025) EllapsedTime: 16.0 seconds RetCode: 0 Status: OK PackageFile: Biobase_2.69.1.tar.gz PackageFileSize: 1.887 MiB