Package: Biobase Version: 2.70.0 Command: rm -rf Biobase.buildbin-libdir && mkdir Biobase.buildbin-libdir && /Users/biocbuild/BBS/utils/build-universal.sh Biobase_2.70.0.tar.gz /Library/Frameworks/R.framework/Resources/bin/R Biobase.buildbin-libdir StartedAt: 2025-11-10 23:12:34 -0500 (Mon, 10 Nov 2025) EndedAt: 2025-11-10 23:12:39 -0500 (Mon, 10 Nov 2025) EllapsedTime: 5.1 seconds RetCode: 0 Status: OK PackageFile: Biobase_2.70.0.tgz PackageFileSize: 2.517 MiB