Package: BioTIP Version: 1.23.1 Command: /home/biocbuild/bbs-3.22-bioc/R/bin/R CMD check --install=check:BioTIP.install-out.txt --library=/home/biocbuild/bbs-3.22-bioc/R/site-library --timings BioTIP_1.23.1.tar.gz StartedAt: 2025-10-24 21:40:01 -0400 (Fri, 24 Oct 2025) EndedAt: 2025-10-24 21:43:02 -0400 (Fri, 24 Oct 2025) EllapsedTime: 181.2 seconds RetCode: 0 Status: WARNINGS CheckDir: BioTIP.Rcheck Warnings: 3