Package: BioQC Version: 1.38.0 Command: /Library/Frameworks/R.framework/Resources/bin/R CMD INSTALL BioQC StartedAt: 2025-11-03 15:18:50 -0500 (Mon, 03 Nov 2025) EndedAt: 2025-11-03 15:19:12 -0500 (Mon, 03 Nov 2025) EllapsedTime: 22.2 seconds RetCode: 0 Status: OK