Package: BioQC Version: 1.37.0 Command: /Library/Frameworks/R.framework/Resources/bin/R CMD build --keep-empty-dirs --no-resave-data BioQC StartedAt: 2025-10-24 15:49:24 -0400 (Fri, 24 Oct 2025) EndedAt: 2025-10-24 15:50:16 -0400 (Fri, 24 Oct 2025) EllapsedTime: 51.6 seconds RetCode: 0 Status: OK PackageFile: BioQC_1.37.0.tar.gz PackageFileSize: 4.3 MiB