Package: BioQC Version: 1.37.0 Command: rm -rf BioQC.buildbin-libdir && mkdir BioQC.buildbin-libdir && /Users/biocbuild/BBS/utils/build-universal.sh BioQC_1.37.0.tar.gz /Library/Frameworks/R.framework/Resources/bin/R BioQC.buildbin-libdir StartedAt: 2025-10-24 22:55:47 -0400 (Fri, 24 Oct 2025) EndedAt: 2025-10-24 22:55:53 -0400 (Fri, 24 Oct 2025) EllapsedTime: 6.1 seconds RetCode: 0 Status: OK PackageFile: BioQC_1.37.0.tgz PackageFileSize: 4.121 MiB