Package: BioNet Version: 1.69.0 Command: /home/biocbuild/bbs-3.22-bioc/R/bin/R CMD INSTALL BioNet StartedAt: 2025-10-24 15:36:13 -0400 (Fri, 24 Oct 2025) EndedAt: 2025-10-24 15:36:26 -0400 (Fri, 24 Oct 2025) EllapsedTime: 13.1 seconds RetCode: 0 Status: OK