Package: BioNet Version: 1.69.0 Command: /Library/Frameworks/R.framework/Resources/bin/R CMD build --keep-empty-dirs --no-resave-data BioNet StartedAt: 2025-10-24 16:20:05 -0400 (Fri, 24 Oct 2025) EndedAt: 2025-10-24 16:21:10 -0400 (Fri, 24 Oct 2025) EllapsedTime: 65.3 seconds RetCode: 0 Status: OK PackageFile: BioNet_1.69.0.tar.gz PackageFileSize: 1.801 MiB