Package: BioNERO Version: 1.17.3 Command: /home/biocbuild/bbs-3.22-bioc/R/bin/R CMD INSTALL BioNERO StartedAt: 2025-10-27 15:46:48 -0400 (Mon, 27 Oct 2025) EndedAt: 2025-10-27 15:47:24 -0400 (Mon, 27 Oct 2025) EllapsedTime: 36.4 seconds RetCode: 0 Status: OK