Package: BioNERO Version: 1.17.3 Command: /home/biocbuild/bbs-3.22-bioc/R/bin/R CMD build --keep-empty-dirs --no-resave-data --md5 BioNERO StartedAt: 2025-10-27 16:32:22 -0400 (Mon, 27 Oct 2025) EndedAt: 2025-10-27 16:37:12 -0400 (Mon, 27 Oct 2025) EllapsedTime: 290.3 seconds RetCode: 0 Status: OK PackageFile: BioNERO_1.17.3.tar.gz PackageFileSize: 4.831 MiB