Package: BioNERO Version: 1.18.0 Command: /Library/Frameworks/R.framework/Resources/bin/R CMD INSTALL BioNERO StartedAt: 2025-11-10 15:23:29 -0500 (Mon, 10 Nov 2025) EndedAt: 2025-11-10 15:23:44 -0500 (Mon, 10 Nov 2025) EllapsedTime: 15.2 seconds RetCode: 0 Status: OK